BEGIN:VCALENDAR
VERSION:2.0
PRODID:-//Angelus News - ECPv6.6.4.2//NONSGML v1.0//EN
CALSCALE:GREGORIAN
METHOD:PUBLISH
X-WR-CALNAME:Angelus News
X-ORIGINAL-URL:https://angelusnews.com
X-WR-CALDESC:Events for Angelus News
REFRESH-INTERVAL;VALUE=DURATION:PT1H
X-Robots-Tag:noindex
X-PUBLISHED-TTL:PT1H
BEGIN:VTIMEZONE
TZID:America/Los_Angeles
BEGIN:DAYLIGHT
TZOFFSETFROM:-0800
TZOFFSETTO:-0700
TZNAME:PDT
DTSTART:20260308T100000
END:DAYLIGHT
BEGIN:STANDARD
TZOFFSETFROM:-0700
TZOFFSETTO:-0800
TZNAME:PST
DTSTART:20261101T090000
END:STANDARD
END:VTIMEZONE
BEGIN:VEVENT
DTSTART;TZID=America/Los_Angeles:20260424T170000
DTEND;TZID=America/Los_Angeles:20260426T130000
DTSTAMP:20260425T144426
CREATED:20260116T153106Z
LAST-MODIFIED:20260116T153106Z
UID:157561-1777050000-1777208400@angelusnews.com
SUMMARY:Contemplative Creativity Retreat Weekend
DESCRIPTION:With Chantel Zimmerman. Visit hsrcenter.com or call 818-784-4515.
URL:https://angelusnews.com/events-calendar/contemplative-creativity-retreat-weekend/
LOCATION:Holy Spirit Retreat Center\, 4316 Lanai Road\, Encino\, CA\, 91436\, United States
END:VEVENT
BEGIN:VEVENT
DTSTART;TZID=America/Los_Angeles:20260425T093000
DTEND;TZID=America/Los_Angeles:20260425T183000
DTSTAMP:20260425T144426
CREATED:20260220T140539Z
LAST-MODIFIED:20260220T140539Z
UID:158641-1777109400-1777141800@angelusnews.com
SUMMARY:Emmaus Ministry for Grieving Parents
DESCRIPTION:Retreat agenda includes prayer services\, group presentations\, spiritual reflections\, breakout sessions\, Emmaus Walk\, and Mass. Light breakfast\, lunch\, dinner\, and all materials included. Free will offerings accepted to cover costs.  \nCall or text Cathy Narvaez at 562-631-8844.
URL:https://angelusnews.com/events-calendar/emmaus-ministry-for-grieving-parents/
LOCATION:St. Bruno Church\, 15740 Citrustree Rd\, Whittier\, CA\, 90603\, United States
END:VEVENT
BEGIN:VEVENT
DTSTART;TZID=America/Los_Angeles:20260425T100000
DTEND;TZID=America/Los_Angeles:20260425T143000
DTSTAMP:20260425T144426
CREATED:20260302T212123Z
LAST-MODIFIED:20260302T212123Z
UID:158972-1777111200-1777127400@angelusnews.com
SUMMARY:Father Pat Crowley: Day of Renewal and Healing
DESCRIPTION:Day includes conferences and healing service. Cost includes lunch. Contact Jose Salas at jsalas@maryjoseph.org or 310-377-4867 ext. 250.
URL:https://angelusnews.com/events-calendar/father-pat-crowley-day-of-renewal-and-healing/
LOCATION:Mary & Joseph Retreat Center\, 5300 Crest Rd.\, Rancho Palos Verdes\, CA\, United States
END:VEVENT
BEGIN:VEVENT
DTSTART;TZID=America/Los_Angeles:20260425T190000
DTEND;TZID=America/Los_Angeles:20260425T203000
DTSTAMP:20260425T144426
CREATED:20251001T124930Z
LAST-MODIFIED:20251001T124930Z
UID:154374-1777143600-1777149000@angelusnews.com
SUMMARY:‘I Treasure Your Word in my Heart: Liturgical Music as a Means of Biblical Interpretation’: Catholic Bible Institute Talk Series.
DESCRIPTION:Zoom. Presenter: Dr. Abigail Bodeau\, assistant professor of sacred scripture at St. Mary Seminary. Explores how Catholic liturgical music interprets biblical texts. Visit lacatholics.org/events.
URL:https://angelusnews.com/events-calendar/i-treasure-your-word-in-my-heart-liturgical-music-as-a-means-of-biblical-interpretation-catholic-bible-institute-talk-series/
END:VEVENT
END:VCALENDAR