BEGIN:VCALENDAR
VERSION:2.0
PRODID:-//Angelus News - ECPv6.6.4.2//NONSGML v1.0//EN
CALSCALE:GREGORIAN
METHOD:PUBLISH
X-WR-CALNAME:Angelus News
X-ORIGINAL-URL:https://angelusnews.com
X-WR-CALDESC:Events for Angelus News
REFRESH-INTERVAL;VALUE=DURATION:PT1H
X-Robots-Tag:noindex
X-PUBLISHED-TTL:PT1H
BEGIN:VTIMEZONE
TZID:America/Los_Angeles
BEGIN:DAYLIGHT
TZOFFSETFROM:-0800
TZOFFSETTO:-0700
TZNAME:PDT
DTSTART:20260308T100000
END:DAYLIGHT
BEGIN:STANDARD
TZOFFSETFROM:-0700
TZOFFSETTO:-0800
TZNAME:PST
DTSTART:20261101T090000
END:STANDARD
END:VTIMEZONE
BEGIN:VEVENT
DTSTART;TZID=America/Los_Angeles:20260421T080000
DTEND;TZID=America/Los_Angeles:20260421T090000
DTSTAMP:20260421T100612
CREATED:20260317T172400Z
LAST-MODIFIED:20260317T172400Z
UID:159370-1776758400-1776762000@angelusnews.com
SUMMARY:Mass in Recognition of Child Abuse Prevention Month
DESCRIPTION:The five parishes with the Gardens of Healing are holding special Masses in April\, dedicated to those harmed by sexual abuse. Visit lacatholics.org/healing-gardens.
URL:https://angelusnews.com/events-calendar/mass-in-recognition-of-child-abuse-prevention-month-2/
LOCATION:Our Lady of the Assumption Church\, 3175 Telegraph Rd.\, Ventura\, California\, 93003
END:VEVENT
BEGIN:VEVENT
DTSTART;TZID=America/Los_Angeles:20260421T190000
DTEND;TZID=America/Los_Angeles:20260421T190000
DTSTAMP:20260421T100612
CREATED:20260102T194429Z
LAST-MODIFIED:20260102T194429Z
UID:157079-1776798000-1776798000@angelusnews.com
SUMMARY:Learn to Pray by Praying
DESCRIPTION:15-session weekly retreat focuses on prayer and developing a personal relationship with God. For more information\, call Filomena Rombeiro at 562-715-0337.
URL:https://angelusnews.com/events-calendar/learn-to-pray-by-praying-2/2026-04-21/
LOCATION:St. Hilary Church\, 5465 Citronell Ave.\, Pico Rivera
END:VEVENT
END:VCALENDAR